BEGIN:VCALENDAR
VERSION:2.0
PRODID:-//eventon.com NONSGML v1.0//EN
CALSCALE:GREGORIAN
METHOD:PUBLISH
BEGIN:VEVENT
UID:69e9e5f69f774
DTSTAMP:20260423T092718Z
DTSTART:20260617T101700Z
DTEND:20260618T101700Z
LOCATION:NPAT\,  Newport World Resorts\,  Pasay Manila Philippines
SUMMARY:International Business Matching Conference (IBMC)
DESCRIPTION:
URL:https://www.bni.com/the-latest/blog-news/events/international-business-matching-conference-ibmc/
END:VEVENT
END:VCALENDAR